{
 "currentVersion": 10.4,
 "serviceDescription": "BDQH",
 "mapName": "New Data Frame 2",
 "description": "",
 "copyrightText": "",
 "supportsDynamicLayers": true,
 "layers": [
  {
   "id": 0,
   "name": "loptrongsuot",
   "parentLayerId": -1,
   "defaultVisibility": false,
   "subLayerIds": null,
   "minScale": 0,
   "maxScale": 0
  },
  {
   "id": 1,
   "name": "Màu hiện trạng, quy hoạch",
   "parentLayerId": -1,
   "defaultVisibility": true,
   "subLayerIds": null,
   "minScale": 0,
   "maxScale": 0
  }
 ],
 "tables": [],
 "spatialReference": {
  "wkt": "PROJCS[\"VN_2000_BR_Vung_Tau_3deg\",GEOGCS[\"GCS_VN_2000\",DATUM[\"D_Vietnam_2000\",SPHEROID[\"WGS_1984\",6378137.0,298.257223563]],PRIMEM[\"Greenwich\",0.0],UNIT[\"Degree\",0.0174532925199433]],PROJECTION[\"Transverse_Mercator\"],PARAMETER[\"False_Easting\",500000.0],PARAMETER[\"False_Northing\",0.0],PARAMETER[\"Central_Meridian\",107.75],PARAMETER[\"Scale_Factor\",0.9999],PARAMETER[\"Latitude_Of_Origin\",0.0],UNIT[\"Meter\",1.0]]"
 },
 "singleFusedMapCache": true,
 "tileInfo": {
  "rows": 256,
  "cols": 256,
  "dpi": 96,
  "format": "PNG",
  "compressionQuality": 0,
  "origin": {
   "x": -5122600,
   "y": 10001100
  },
  "spatialReference": {
   "wkt": "PROJCS[\"VN_2000_BR_Vung_Tau_3deg\",GEOGCS[\"GCS_VN_2000\",DATUM[\"D_Vietnam_2000\",SPHEROID[\"WGS_1984\",6378137.0,298.257223563]],PRIMEM[\"Greenwich\",0.0],UNIT[\"Degree\",0.0174532925199433]],PROJECTION[\"Transverse_Mercator\"],PARAMETER[\"False_Easting\",500000.0],PARAMETER[\"False_Northing\",0.0],PARAMETER[\"Central_Meridian\",107.75],PARAMETER[\"Scale_Factor\",0.9999],PARAMETER[\"Latitude_Of_Origin\",0.0],UNIT[\"Meter\",1.0]]"
  },
  "lods": [
   {
    "level": 0,
    "resolution": 264.5838625010584,
    "scale": 1000000
   },
   {
    "level": 1,
    "resolution": 132.2919312505292,
    "scale": 500000
   },
   {
    "level": 2,
    "resolution": 79.37515875031751,
    "scale": 300000
   },
   {
    "level": 3,
    "resolution": 52.91677250021167,
    "scale": 200000
   },
   {
    "level": 4,
    "resolution": 26.458386250105836,
    "scale": 100000
   },
   {
    "level": 5,
    "resolution": 13.229193125052918,
    "scale": 50000
   },
   {
    "level": 6,
    "resolution": 7.9375158750317505,
    "scale": 30000
   },
   {
    "level": 7,
    "resolution": 5.291677250021167,
    "scale": 20000
   },
   {
    "level": 8,
    "resolution": 1.3229193125052918,
    "scale": 5000
   },
   {
    "level": 9,
    "resolution": 0.7937515875031751,
    "scale": 3000
   },
   {
    "level": 10,
    "resolution": 0.5291677250021167,
    "scale": 2000
   },
   {
    "level": 11,
    "resolution": 0.26458386250105836,
    "scale": 1000
   },
   {
    "level": 12,
    "resolution": 0.13229193125052918,
    "scale": 500
   }
  ]
 },
 "initialExtent": {
  "xmin": 385623.28925857076,
  "ymin": 1168305.0019671423,
  "xmax": 516000.76634142885,
  "ymax": 1197964.9314099997,
  "spatialReference": {
   "wkt": "PROJCS[\"VN_2000_BR_Vung_Tau_3deg\",GEOGCS[\"GCS_VN_2000\",DATUM[\"D_Vietnam_2000\",SPHEROID[\"WGS_1984\",6378137.0,298.257223563]],PRIMEM[\"Greenwich\",0.0],UNIT[\"Degree\",0.0174532925199433]],PROJECTION[\"Transverse_Mercator\"],PARAMETER[\"False_Easting\",500000.0],PARAMETER[\"False_Northing\",0.0],PARAMETER[\"Central_Meridian\",107.75],PARAMETER[\"Scale_Factor\",0.9999],PARAMETER[\"Latitude_Of_Origin\",0.0],UNIT[\"Meter\",1.0]]"
  }
 },
 "fullExtent": {
  "xmin": 416563.58499999996,
  "ymin": 1133028.6177999992,
  "xmax": 485060.47059999965,
  "ymax": 1194872.7259999998,
  "spatialReference": {
   "wkt": "PROJCS[\"VN_2000_BR_Vung_Tau_3deg\",GEOGCS[\"GCS_VN_2000\",DATUM[\"D_Vietnam_2000\",SPHEROID[\"WGS_1984\",6378137.0,298.257223563]],PRIMEM[\"Greenwich\",0.0],UNIT[\"Degree\",0.0174532925199433]],PROJECTION[\"Transverse_Mercator\"],PARAMETER[\"False_Easting\",500000.0],PARAMETER[\"False_Northing\",0.0],PARAMETER[\"Central_Meridian\",107.75],PARAMETER[\"Scale_Factor\",0.9999],PARAMETER[\"Latitude_Of_Origin\",0.0],UNIT[\"Meter\",1.0]]"
  }
 },
 "minScale": 1000000,
 "maxScale": 500,
 "units": "esriMeters",
 "supportedImageFormatTypes": "PNG32,PNG24,PNG,JPG,DIB,TIFF,EMF,PS,PDF,GIF,SVG,SVGZ,BMP",
 "documentInfo": {
  "Title": "",
  "Author": "",
  "Comments": "",
  "Subject": "",
  "Category": "",
  "AntialiasingMode": "None",
  "TextAntialiasingMode": "Force",
  "Keywords": ""
 },
 "capabilities": "Map,Query,Data",
 "supportedQueryFormats": "JSON, AMF, geoJSON",
 "exportTilesAllowed": false,
 "maxRecordCount": 1000,
 "maxImageHeight": 4096,
 "maxImageWidth": 4096,
 "tileServers": "",
 "supportedExtensions": ""
}
