View In:
ArcGIS JavaScript
ArcGIS Online map viewer
Google Earth
ArcMap
ArcGIS Explorer
View Footprint In:
ArcGIS Online map viewer
Service Description: Bản đồ địa phận, địa giới hành chính tỉnh Bà Rịa - Vũng Tàu biên tập theo thông tư 09/2024/TT-BTNMT (căn cứ trên file dgn 9_RGHC_BA RIA VUNG TAU_ SAU XU LY) .publish theo chỉ đạo PGĐ Lê Hồng Hải ngày 7/10/2024
Map Name: Layers
Legend
All Layers and Tables
Layers:
Description:
Copyright Text:
Spatial Reference:
102100
(3857)
Single Fused Map Cache: true
Tile Info:
- Height: 256
- Width: 256
- DPI: 96
-
Levels of Detail: 20
-
Level ID: 1
[ Start Tile, End Tile ]
- Resolution: 78271.5169639999
- Scale: 2.95828763795777E8
-
Level ID: 2
[ Start Tile, End Tile ]
- Resolution: 39135.7584820001
- Scale: 1.47914381897889E8
-
Level ID: 3
[ Start Tile, End Tile ]
- Resolution: 19567.8792409999
- Scale: 7.3957190948944E7
-
Level ID: 4
[ Start Tile, End Tile ]
- Resolution: 9783.93962049996
- Scale: 3.6978595474472E7
-
Level ID: 5
[ Start Tile, End Tile ]
- Resolution: 4891.96981024998
- Scale: 1.8489297737236E7
- Format: PNG
- Compression Quality: 0.0
- Origin: X: -2.0037508342787E7
Y: 2.0037508342787E7
- Spatial Reference: 102100
(3857)
Initial Extent:
XMin: 1.1784366107955866E7
YMin: 964143.0292999563
XMax: 1.2049354866508134E7
YMax: 1209964.427378281
Spatial Reference: 102100
Full Extent:
XMin: 1.185875661973086E7
YMin: 964128.5987664853
XMax: 1.1975149428525848E7
YMax: 1211740.9099223504
Spatial Reference: 102100
Units: esriMeters
Supported Image Format Types: PNG32,PNG24,PNG,JPG,DIB,TIFF,EMF,PS,PDF,GIF,SVG,SVGZ,BMP
Document Info:
Title:
Author:
Comments: Bản đồ địa phận, địa giới hành chính tỉnh Bà Rịa - Vũng Tàu biên tập theo thông tư 09/2024/TT-BTNMT (căn cứ trên file dgn 9_RGHC_BA RIA VUNG TAU_ SAU XU LY) .publish theo chỉ đạo PGĐ Lê Hồng Hải ngày 7/10/2024
Subject: Bản đồ địa phận, địa giới hành chính tỉnh Bà Rịa - Vũng Tàu biên tập theo thông tư 09/2024/TT-BTNMT (căn cứ trên file dgn 9_RGHC_BA RIA VUNG TAU_ SAU XU LY) .publish theo chỉ đạo PGĐ Lê Hồng Hải ngày 7/10/2024
Category:
Keywords:
AntialiasingMode: None
TextAntialiasingMode: Force
Supports Dynamic Layers: false
MaxRecordCount: 1000
MaxImageHeight: 4096
MaxImageWidth: 4096
Supported Query Formats: JSON, AMF, geoJSON
Min Scale: 1155581.108577
Max Scale: 1128.497176
Child Resources:
Info
Supported Operations:
Export Map
Identify
Find
Return Updates